BEGIN:VCALENDAR
VERSION:2.0
PRODID:-//eventon.com NONSGML v1.0//EN
CALSCALE:GREGORIAN
METHOD:PUBLISH
BEGIN:VEVENT
UID:69ea3aeff25f5
DTSTAMP:20260423T152951Z
DTSTART:20230526
DTEND:20230527
LOCATION:
SUMMARY:Az. Agr. Il Cespuglio delle Merafoglie (Lama Mocogno\,  MO)
DESCRIPTION:Az. Agr. Il Cespuglio delle Merafoglie (Lama Mocogno\,  MO)\nht
 tps://chasingchildhooddoc.com/events/az-agr-il-cespuglio-delle-merafoglie-l
 ama-mocogno-mo/
URL:https://chasingchildhooddoc.com/events/az-agr-il-cespuglio-delle-merafoglie-lama-mocogno-mo/
END:VEVENT
END:VCALENDAR