BEGIN:VCALENDAR
VERSION:2.0
PRODID:-//eventon.com NONSGML v1.0//EN
CALSCALE:GREGORIAN
METHOD:PUBLISH
BEGIN:VEVENT
UID:69ea3a9aceb0d
DTSTAMP:20260423T152826Z
DTSTART:20230524
DTEND:20230525
LOCATION:
SUMMARY:City of Portland/PDXCityParents (Portland\,  OR)
DESCRIPTION:City of Portland/PDXCityParents (Portland\,  OR)\nhttps://chasi
 ngchildhooddoc.com/events/city-of-portland-pdxcityparents-portland-or-2/
URL:https://chasingchildhooddoc.com/events/city-of-portland-pdxcityparents-portland-or-2/
END:VEVENT
END:VCALENDAR