BEGIN:VCALENDAR
VERSION:2.0
PRODID:-//eventon.com NONSGML v1.0//EN
CALSCALE:GREGORIAN
METHOD:PUBLISH
BEGIN:VEVENT
UID:69ea3b03e4bad
DTSTAMP:20260423T153011Z
DTSTART:20230522
DTEND:20230523
LOCATION:
SUMMARY:St. Clare's Episcopal Church (Pleasanton\,  CA)
DESCRIPTION:St. Clare's Episcopal Church (Pleasanton\,  CA)\nhttps://chasin
 gchildhooddoc.com/events/st-clares-episcopal-church-pleasanton-ca-2/
URL:https://chasingchildhooddoc.com/events/st-clares-episcopal-church-pleasanton-ca-2/
END:VEVENT
END:VCALENDAR