BEGIN:VCALENDAR
VERSION:2.0
PRODID:-//eventon.com NONSGML v1.0//EN
CALSCALE:GREGORIAN
METHOD:PUBLISH
BEGIN:VEVENT
UID:69ea3afc9743b
DTSTAMP:20260423T153004Z
DTSTART:20230521
DTEND:20230522
LOCATION:
SUMMARY:DC Public Library (Washington DC)
DESCRIPTION:DC Public Library (Washington DC)\nhttps://chasingchildhooddoc.
 com/events/dc-public-library-washington-dc-2/
URL:https://chasingchildhooddoc.com/events/dc-public-library-washington-dc-2/
END:VEVENT
END:VCALENDAR