BEGIN:VCALENDAR
VERSION:2.0
PRODID:-//eventon.com NONSGML v1.0//EN
CALSCALE:GREGORIAN
METHOD:PUBLISH
BEGIN:VEVENT
UID:69ea3b05e5233
DTSTAMP:20260423T153013Z
DTSTART:20230519
DTEND:20230520
LOCATION:
SUMMARY:Kenai Peninsula Borough School District (Seward\,  AR)
DESCRIPTION:Kenai Peninsula Borough School District (Seward\,  AR)\nhttps:/
 /chasingchildhooddoc.com/events/kenai-peninsula-borough-school-district-sew
 ard-ar/
URL:https://chasingchildhooddoc.com/events/kenai-peninsula-borough-school-district-seward-ar/
END:VEVENT
END:VCALENDAR