BEGIN:VCALENDAR
VERSION:2.0
PRODID:-//eventon.com NONSGML v1.0//EN
CALSCALE:GREGORIAN
METHOD:PUBLISH
BEGIN:VEVENT
UID:69ea3ad30124f
DTSTAMP:20260423T152923Z
DTSTART:20230516
DTEND:20230517
LOCATION:
SUMMARY:Claire's Corner Copia (New Haven\,  CT)
DESCRIPTION:Claire's Corner Copia (New Haven\,  CT)\nhttps://chasingchildho
 oddoc.com/events/claires-corner-copia-new-haven-ct-2/
URL:https://chasingchildhooddoc.com/events/claires-corner-copia-new-haven-ct-2/
END:VEVENT
END:VCALENDAR