BEGIN:VCALENDAR
VERSION:2.0
PRODID:-//eventon.com NONSGML v1.0//EN
CALSCALE:GREGORIAN
METHOD:PUBLISH
BEGIN:VEVENT
UID:69ea3afcc9342
DTSTAMP:20260423T153004Z
DTSTART:20230515
DTEND:20230516
LOCATION:
SUMMARY:Susquehanna Waldorf School (Marietta\,  PA)
DESCRIPTION:Susquehanna Waldorf School (Marietta\,  PA)\nhttps://chasingchi
 ldhooddoc.com/events/susquehanna-waldorf-school-marietta-pa-2/
URL:https://chasingchildhooddoc.com/events/susquehanna-waldorf-school-marietta-pa-2/
END:VEVENT
END:VCALENDAR