BEGIN:VCALENDAR
VERSION:2.0
PRODID:-//eventon.com NONSGML v1.0//EN
CALSCALE:GREGORIAN
METHOD:PUBLISH
BEGIN:VEVENT
UID:69ea3a7a2b63b
DTSTAMP:20260423T152754Z
DTSTART:20230512
DTEND:20230513
LOCATION:
SUMMARY:Educational Service Center of Central Ohio (Columbus\,  OH)
DESCRIPTION:Educational Service Center of Central Ohio (Columbus\,  OH)\nht
 tps://chasingchildhooddoc.com/events/educational-service-center-of-central-
 ohio-columbus-oh-2/
URL:https://chasingchildhooddoc.com/events/educational-service-center-of-central-ohio-columbus-oh-2/
END:VEVENT
END:VCALENDAR