BEGIN:VCALENDAR
VERSION:2.0
PRODID:-//eventon.com NONSGML v1.0//EN
CALSCALE:GREGORIAN
METHOD:PUBLISH
BEGIN:VEVENT
UID:69ea3a8908017
DTSTAMP:20260423T152809Z
DTSTART:20230511
DTEND:20230512
LOCATION:
SUMMARY:Southport Congregational Preschool (Southport\,  CT)
DESCRIPTION:Southport Congregational Preschool (Southport\,  CT)\nhttps://c
 hasingchildhooddoc.com/events/southport-congregational-preschool-southport-
 ct-2/
URL:https://chasingchildhooddoc.com/events/southport-congregational-preschool-southport-ct-2/
END:VEVENT
END:VCALENDAR