BEGIN:VCALENDAR
VERSION:2.0
PRODID:-//eventon.com NONSGML v1.0//EN
CALSCALE:GREGORIAN
METHOD:PUBLISH
BEGIN:VEVENT
UID:69ea3a2740a40
DTSTAMP:20260423T152631Z
DTSTART:20230510
DTEND:20230511
LOCATION:
SUMMARY:JerseyCAN (Newark\,  NJ)
DESCRIPTION:JerseyCAN (Newark\,  NJ)\nhttps://chasingchildhooddoc.com/event
 s/jerseycan-newark-nj-2/
URL:https://chasingchildhooddoc.com/events/jerseycan-newark-nj-2/
END:VEVENT
END:VCALENDAR