BEGIN:VCALENDAR
VERSION:2.0
PRODID:-//eventon.com NONSGML v1.0//EN
CALSCALE:GREGORIAN
METHOD:PUBLISH
BEGIN:VEVENT
UID:69ea3a85307f1
DTSTAMP:20260423T152805Z
DTSTART:20230510
DTEND:20230511
LOCATION:
SUMMARY:East Haddam Youth & Family Services (Moodus\,  CT)
DESCRIPTION:East Haddam Youth &#038; Family Services (Moodus\,  CT)\nhttps:
 //chasingchildhooddoc.com/events/east-haddam-youth-family-services-moodus-c
 t-2/
URL:https://chasingchildhooddoc.com/events/east-haddam-youth-family-services-moodus-ct-2/
END:VEVENT
END:VCALENDAR