BEGIN:VCALENDAR
VERSION:2.0
PRODID:-//eventon.com NONSGML v1.0//EN
CALSCALE:GREGORIAN
METHOD:PUBLISH
BEGIN:VEVENT
UID:69ea3afd435b1
DTSTAMP:20260423T153005Z
DTSTART:20230510
DTEND:20230511
LOCATION:
SUMMARY:George Baker Elementary School (Moorestown\,  NJ)
DESCRIPTION:George Baker Elementary School (Moorestown\,  NJ)\nhttps://chas
 ingchildhooddoc.com/events/george-baker-elementary-school-moorestown-nj-2/
URL:https://chasingchildhooddoc.com/events/george-baker-elementary-school-moorestown-nj-2/
END:VEVENT
END:VCALENDAR