BEGIN:VCALENDAR
VERSION:2.0
PRODID:-//eventon.com NONSGML v1.0//EN
CALSCALE:GREGORIAN
METHOD:PUBLISH
BEGIN:VEVENT
UID:69ea3aa5abefc
DTSTAMP:20260423T152837Z
DTSTART:20230509
DTEND:20230510
LOCATION:
SUMMARY:Ventura Charter School (Ventura\,  CA)
DESCRIPTION:Ventura Charter School (Ventura\,  CA)\nhttps://chasingchildhoo
 ddoc.com/events/ventura-charter-school-ventura-ca-2/
URL:https://chasingchildhooddoc.com/events/ventura-charter-school-ventura-ca-2/
END:VEVENT
END:VCALENDAR