BEGIN:VCALENDAR
VERSION:2.0
PRODID:-//eventon.com NONSGML v1.0//EN
CALSCALE:GREGORIAN
METHOD:PUBLISH
BEGIN:VEVENT
UID:69ea3a2c2bd1e
DTSTAMP:20260423T152636Z
DTSTART:20230508
DTEND:20230509
LOCATION:
SUMMARY:South Suburban College (South Holland\,  IL)
DESCRIPTION:South Suburban College (South Holland\,  IL)\nhttps://chasingch
 ildhooddoc.com/events/south-suburban-college-south-holland-il-2/
URL:https://chasingchildhooddoc.com/events/south-suburban-college-south-holland-il-2/
END:VEVENT
END:VCALENDAR