BEGIN:VCALENDAR
VERSION:2.0
PRODID:-//eventon.com NONSGML v1.0//EN
CALSCALE:GREGORIAN
METHOD:PUBLISH
BEGIN:VEVENT
UID:69ea3a88410ee
DTSTAMP:20260423T152808Z
DTSTART:20230505
DTEND:20230506
LOCATION:
SUMMARY:Irene and Leslie Dube Centre for Mental Health (Canada)
DESCRIPTION:Irene and Leslie Dube Centre for Mental Health (Canada)\nhttps:
 //chasingchildhooddoc.com/events/irene-and-leslie-dube-centre-for-mental-he
 alth-canada/
URL:https://chasingchildhooddoc.com/events/irene-and-leslie-dube-centre-for-mental-health-canada/
END:VEVENT
END:VCALENDAR