BEGIN:VCALENDAR
VERSION:2.0
PRODID:-//eventon.com NONSGML v1.0//EN
CALSCALE:GREGORIAN
METHOD:PUBLISH
BEGIN:VEVENT
UID:69ea3a9dc63ea
DTSTAMP:20260423T152829Z
DTSTART:20230505
DTEND:20230506
LOCATION:
SUMMARY:United Way of Central Minnesota (Saint Cloud\,  MN)
DESCRIPTION:United Way of Central Minnesota (Saint Cloud\,  MN)\nhttps://ch
 asingchildhooddoc.com/events/united-way-of-central-minnesota-saint-cloud-mn
 -2/
URL:https://chasingchildhooddoc.com/events/united-way-of-central-minnesota-saint-cloud-mn-2/
END:VEVENT
END:VCALENDAR