BEGIN:VCALENDAR
VERSION:2.0
PRODID:-//eventon.com NONSGML v1.0//EN
CALSCALE:GREGORIAN
METHOD:PUBLISH
BEGIN:VEVENT
UID:69ea3a52560d5
DTSTAMP:20260423T152714Z
DTSTART:20230505
DTEND:20230506
LOCATION:
SUMMARY:Lyons Regional Library (Lyons\,  CO)
DESCRIPTION:Lyons Regional Library (Lyons\,  CO)\nhttps://chasingchildhoodd
 oc.com/events/lyons-regional-library-lyons-co-2/
URL:https://chasingchildhooddoc.com/events/lyons-regional-library-lyons-co-2/
END:VEVENT
END:VCALENDAR