BEGIN:VCALENDAR
VERSION:2.0
PRODID:-//eventon.com NONSGML v1.0//EN
CALSCALE:GREGORIAN
METHOD:PUBLISH
BEGIN:VEVENT
UID:69ea3ad236610
DTSTAMP:20260423T152922Z
DTSTART:20230505
DTEND:20230506
LOCATION:
SUMMARY:St. Mary's Episcopal Parish (Laguna Beach\,  CA)
DESCRIPTION:St. Mary's Episcopal Parish (Laguna Beach\,  CA)\nhttps://chasi
 ngchildhooddoc.com/events/st-marys-episcopal-parish-laguna-beach-ca-2/
URL:https://chasingchildhooddoc.com/events/st-marys-episcopal-parish-laguna-beach-ca-2/
END:VEVENT
END:VCALENDAR