BEGIN:VCALENDAR
VERSION:2.0
PRODID:-//eventon.com NONSGML v1.0//EN
CALSCALE:GREGORIAN
METHOD:PUBLISH
BEGIN:VEVENT
UID:69ea3aa7c7bf5
DTSTAMP:20260423T152839Z
DTSTART:20230505
DTEND:20230506
LOCATION:
SUMMARY:United Planning Organization- Youth Services Division (Washington DC)
DESCRIPTION:United Planning Organization- Youth Services Division (Washingt
 on DC)\nhttps://chasingchildhooddoc.com/events/united-planning-organization
 -youth-services-division-washington-dc-2/
URL:https://chasingchildhooddoc.com/events/united-planning-organization-youth-services-division-washington-dc-2/
END:VEVENT
END:VCALENDAR