BEGIN:VCALENDAR
VERSION:2.0
PRODID:-//eventon.com NONSGML v1.0//EN
CALSCALE:GREGORIAN
METHOD:PUBLISH
BEGIN:VEVENT
UID:69ea3a83b4ab7
DTSTAMP:20260423T152803Z
DTSTART:20230505
DTEND:20230506
LOCATION:
SUMMARY:Montebello High School (Montebello\,  CA)
DESCRIPTION:Montebello High School (Montebello\,  CA)\nhttps://chasingchild
 hooddoc.com/events/montebello-high-school-montebello-ca/
URL:https://chasingchildhooddoc.com/events/montebello-high-school-montebello-ca/
END:VEVENT
END:VCALENDAR