BEGIN:VCALENDAR
VERSION:2.0
PRODID:-//eventon.com NONSGML v1.0//EN
CALSCALE:GREGORIAN
METHOD:PUBLISH
BEGIN:VEVENT
UID:69ea3af76918b
DTSTAMP:20260423T152959Z
DTSTART:20230505
DTEND:20230506
LOCATION:
SUMMARY:Kansas City Nursery School (Kansas City\,  MI)
DESCRIPTION:Kansas City Nursery School (Kansas City\,  MI)\nhttps://chasing
 childhooddoc.com/events/kansas-city-nursery-school-kansas-city-mi/
URL:https://chasingchildhooddoc.com/events/kansas-city-nursery-school-kansas-city-mi/
END:VEVENT
END:VCALENDAR