BEGIN:VCALENDAR
VERSION:2.0
PRODID:-//eventon.com NONSGML v1.0//EN
CALSCALE:GREGORIAN
METHOD:PUBLISH
BEGIN:VEVENT
UID:69ea3a53230fd
DTSTAMP:20260423T152715Z
DTSTART:20230505
DTEND:20230506
LOCATION:
SUMMARY:HCPS (Australia)
DESCRIPTION:HCPS (Australia)\nhttps://chasingchildhooddoc.com/events/hcps-a
 ustralia/
URL:https://chasingchildhooddoc.com/events/hcps-australia/
END:VEVENT
END:VCALENDAR