BEGIN:VCALENDAR
VERSION:2.0
PRODID:-//eventon.com NONSGML v1.0//EN
CALSCALE:GREGORIAN
METHOD:PUBLISH
BEGIN:VEVENT
UID:69ea3af1cdf8e
DTSTAMP:20260423T152953Z
DTSTART:20230505
DTEND:20230506
LOCATION:
SUMMARY:Renfrew County District School Board (Canada)
DESCRIPTION:Renfrew County District School Board (Canada)\nhttps://chasingc
 hildhooddoc.com/events/renfrew-county-district-school-board-canada/
URL:https://chasingchildhooddoc.com/events/renfrew-county-district-school-board-canada/
END:VEVENT
END:VCALENDAR