BEGIN:VCALENDAR
VERSION:2.0
PRODID:-//eventon.com NONSGML v1.0//EN
CALSCALE:GREGORIAN
METHOD:PUBLISH
BEGIN:VEVENT
UID:69ea4d1bbcace
DTSTAMP:20260423T164723Z
DTSTART:20230505
DTEND:20230506
LOCATION:
SUMMARY:University College Cork (Ireland)
DESCRIPTION:University College Cork (Ireland)\nhttps://chasingchildhooddoc.
 com/events/university-college-cork-ireland/
URL:https://chasingchildhooddoc.com/events/university-college-cork-ireland/
END:VEVENT
END:VCALENDAR