BEGIN:VCALENDAR
VERSION:2.0
PRODID:-//eventon.com NONSGML v1.0//EN
CALSCALE:GREGORIAN
METHOD:PUBLISH
BEGIN:VEVENT
UID:69ea3a86c9bf4
DTSTAMP:20260423T152806Z
DTSTART:20230505
DTEND:20230506
LOCATION:
SUMMARY:Stantec (Canada)
DESCRIPTION:Stantec (Canada)\nhttps://chasingchildhooddoc.com/events/stante
 c-canada/
URL:https://chasingchildhooddoc.com/events/stantec-canada/
END:VEVENT
END:VCALENDAR