BEGIN:VCALENDAR
VERSION:2.0
PRODID:-//eventon.com NONSGML v1.0//EN
CALSCALE:GREGORIAN
METHOD:PUBLISH
BEGIN:VEVENT
UID:69ea3b0249c28
DTSTAMP:20260423T153010Z
DTSTART:20230504
DTEND:20230505
LOCATION:
SUMMARY:NC DPI Office of Early Learning (Raleigh\,  NC)
DESCRIPTION:NC DPI Office of Early Learning (Raleigh\,  NC)\nhttps://chasin
 gchildhooddoc.com/events/nc-dpi-office-of-early-learning-raleigh-nc-2/
URL:https://chasingchildhooddoc.com/events/nc-dpi-office-of-early-learning-raleigh-nc-2/
END:VEVENT
END:VCALENDAR