BEGIN:VCALENDAR
VERSION:2.0
PRODID:-//eventon.com NONSGML v1.0//EN
CALSCALE:GREGORIAN
METHOD:PUBLISH
BEGIN:VEVENT
UID:69ea3a977ecbe
DTSTAMP:20260423T152823Z
DTSTART:20230504
DTEND:20230505
LOCATION:
SUMMARY:ACEs Matter\,  Corp (Winter Park\,  FL)
DESCRIPTION:ACEs Matter\,  Corp (Winter Park\,  FL)\nhttps://chasingchildho
 oddoc.com/events/aces-matter-corp-winter-park-fl-2/
URL:https://chasingchildhooddoc.com/events/aces-matter-corp-winter-park-fl-2/
END:VEVENT
END:VCALENDAR