BEGIN:VCALENDAR
VERSION:2.0
PRODID:-//eventon.com NONSGML v1.0//EN
CALSCALE:GREGORIAN
METHOD:PUBLISH
BEGIN:VEVENT
UID:69ea3ad23b821
DTSTAMP:20260423T152922Z
DTSTART:20230504
DTEND:20230505
LOCATION:
SUMMARY:Scarborough Public Library (Scarborough\,  ME)
DESCRIPTION:Scarborough Public Library (Scarborough\,  ME)\nhttps://chasing
 childhooddoc.com/events/scarborough-public-library-scarborough-me-2/
URL:https://chasingchildhooddoc.com/events/scarborough-public-library-scarborough-me-2/
END:VEVENT
END:VCALENDAR