BEGIN:VCALENDAR
VERSION:2.0
PRODID:-//eventon.com NONSGML v1.0//EN
CALSCALE:GREGORIAN
METHOD:PUBLISH
BEGIN:VEVENT
UID:69ea3a9a7f338
DTSTAMP:20260423T152826Z
DTSTART:20230504
DTEND:20230505
LOCATION:
SUMMARY:The Achievement Foundation (Fort Lauderdale\,  FL)
DESCRIPTION:The Achievement Foundation (Fort Lauderdale\,  FL)\nhttps://cha
 singchildhooddoc.com/events/the-achievement-foundation-fort-lauderdale-fl/
URL:https://chasingchildhooddoc.com/events/the-achievement-foundation-fort-lauderdale-fl/
END:VEVENT
END:VCALENDAR