BEGIN:VCALENDAR
VERSION:2.0
PRODID:-//eventon.com NONSGML v1.0//EN
CALSCALE:GREGORIAN
METHOD:PUBLISH
BEGIN:VEVENT
UID:69ea3a88e767b
DTSTAMP:20260423T152808Z
DTSTART:20230504
DTEND:20230505
LOCATION:
SUMMARY:Toronto District School Board (Canada)
DESCRIPTION:Toronto District School Board (Canada)\nhttps://chasingchildhoo
 ddoc.com/events/toronto-district-school-board-canada/
URL:https://chasingchildhooddoc.com/events/toronto-district-school-board-canada/
END:VEVENT
END:VCALENDAR