BEGIN:VCALENDAR
VERSION:2.0
PRODID:-//eventon.com NONSGML v1.0//EN
CALSCALE:GREGORIAN
METHOD:PUBLISH
BEGIN:VEVENT
UID:69ea3afa84c1d
DTSTAMP:20260423T153002Z
DTSTART:20230504
DTEND:20230505
LOCATION:
SUMMARY:Hazelwood Elementary School (Lynnwood\,  WA)
DESCRIPTION:Hazelwood Elementary School (Lynnwood\,  WA)\nhttps://chasingch
 ildhooddoc.com/events/hazelwood-elementary-school-lynnwood-wa-2/
URL:https://chasingchildhooddoc.com/events/hazelwood-elementary-school-lynnwood-wa-2/
END:VEVENT
END:VCALENDAR