BEGIN:VCALENDAR
VERSION:2.0
PRODID:-//eventon.com NONSGML v1.0//EN
CALSCALE:GREGORIAN
METHOD:PUBLISH
BEGIN:VEVENT
UID:69ea3a975cad8
DTSTAMP:20260423T152823Z
DTSTART:20230503
DTEND:20230504
LOCATION:
SUMMARY:CATCH (NORTHBROOK\,  IL)
DESCRIPTION:CATCH (NORTHBROOK\,  IL)\nhttps://chasingchildhooddoc.com/event
 s/catch-northbrook-il-2/
URL:https://chasingchildhooddoc.com/events/catch-northbrook-il-2/
END:VEVENT
END:VCALENDAR