BEGIN:VCALENDAR
VERSION:2.0
PRODID:-//eventon.com NONSGML v1.0//EN
CALSCALE:GREGORIAN
METHOD:PUBLISH
BEGIN:VEVENT
UID:69ea3acef26cc
DTSTAMP:20260423T152918Z
DTSTART:20230502
DTEND:20230503
LOCATION:
SUMMARY:Marquette University (Milwaukee\,  WI)
DESCRIPTION:Marquette University (Milwaukee\,  WI)\nhttps://chasingchildhoo
 ddoc.com/events/marquette-university-milwaukee-wi-2/
URL:https://chasingchildhooddoc.com/events/marquette-university-milwaukee-wi-2/
END:VEVENT
END:VCALENDAR