BEGIN:VCALENDAR
VERSION:2.0
PRODID:-//eventon.com NONSGML v1.0//EN
CALSCALE:GREGORIAN
METHOD:PUBLISH
BEGIN:VEVENT
UID:69ea3aa8a79bd
DTSTAMP:20260423T152840Z
DTSTART:20230502
DTEND:20230503
LOCATION:
SUMMARY:Barton Community College/Early Childhood Education (Great Bend\,  KS)
DESCRIPTION:Barton Community College/Early Childhood Education (Great Bend\
 ,  KS)\nhttps://chasingchildhooddoc.com/events/barton-community-college-ear
 ly-childhood-education-great-bend-ks-2/
URL:https://chasingchildhooddoc.com/events/barton-community-college-early-childhood-education-great-bend-ks-2/
END:VEVENT
END:VCALENDAR