BEGIN:VCALENDAR
VERSION:2.0
PRODID:-//eventon.com NONSGML v1.0//EN
CALSCALE:GREGORIAN
METHOD:PUBLISH
BEGIN:VEVENT
UID:69ea3a872d986
DTSTAMP:20260423T152807Z
DTSTART:20230501
DTEND:20230502
LOCATION:
SUMMARY:Kazoo School (Kalamazoo\,  MI)
DESCRIPTION:Kazoo School (Kalamazoo\,  MI)\nhttps://chasingchildhooddoc.com
 /events/kazoo-school-kalamazoo-mi/
URL:https://chasingchildhooddoc.com/events/kazoo-school-kalamazoo-mi/
END:VEVENT
END:VCALENDAR