BEGIN:VCALENDAR
VERSION:2.0
PRODID:-//eventon.com NONSGML v1.0//EN
CALSCALE:GREGORIAN
METHOD:PUBLISH
BEGIN:VEVENT
UID:69ea3aedacd35
DTSTAMP:20260423T152949Z
DTSTART:20230429
DTEND:20230430
LOCATION:
SUMMARY:Edmonds School District/Hazelwood (Lynnwood\,  WA)
DESCRIPTION:Edmonds School District/Hazelwood (Lynnwood\,  WA)\nhttps://cha
 singchildhooddoc.com/events/edmonds-school-district-hazelwood-lynnwood-wa-2
 /
URL:https://chasingchildhooddoc.com/events/edmonds-school-district-hazelwood-lynnwood-wa-2/
END:VEVENT
END:VCALENDAR