BEGIN:VCALENDAR
VERSION:2.0
PRODID:-//eventon.com NONSGML v1.0//EN
CALSCALE:GREGORIAN
METHOD:PUBLISH
BEGIN:VEVENT
UID:69ea3aedbd9e0
DTSTAMP:20260423T152949Z
DTSTART:20230428
DTEND:20230429
LOCATION:
SUMMARY:Frederick County Public Schools (Frederick\,  MD)
DESCRIPTION:Frederick County Public Schools (Frederick\,  MD)\nhttps://chas
 ingchildhooddoc.com/events/frederick-county-public-schools-frederick-md-2/
URL:https://chasingchildhooddoc.com/events/frederick-county-public-schools-frederick-md-2/
END:VEVENT
END:VCALENDAR