BEGIN:VCALENDAR
VERSION:2.0
PRODID:-//eventon.com NONSGML v1.0//EN
CALSCALE:GREGORIAN
METHOD:PUBLISH
BEGIN:VEVENT
UID:69ea3aefaf381
DTSTAMP:20260423T152951Z
DTSTART:20230427
DTEND:20230428
LOCATION:
SUMMARY:Veterans Park School (Ridgefield\,  CT)
DESCRIPTION:Veterans Park School (Ridgefield\,  CT)\nhttps://chasingchildho
 oddoc.com/events/veterans-park-school-ridgefield-ct-2/
URL:https://chasingchildhooddoc.com/events/veterans-park-school-ridgefield-ct-2/
END:VEVENT
END:VCALENDAR