BEGIN:VCALENDAR
VERSION:2.0
PRODID:-//eventon.com NONSGML v1.0//EN
CALSCALE:GREGORIAN
METHOD:PUBLISH
BEGIN:VEVENT
UID:69ea3ad0bcfd7
DTSTAMP:20260423T152920Z
DTSTART:20230425
DTEND:20230426
LOCATION:
SUMMARY:St. Paul's Day School (Riverside\,  CT)
DESCRIPTION:St. Paul's Day School (Riverside\,  CT)\nhttps://chasingchildho
 oddoc.com/events/st-pauls-day-school-riverside-ct-2/
URL:https://chasingchildhooddoc.com/events/st-pauls-day-school-riverside-ct-2/
END:VEVENT
END:VCALENDAR