BEGIN:VCALENDAR
VERSION:2.0
PRODID:-//eventon.com NONSGML v1.0//EN
CALSCALE:GREGORIAN
METHOD:PUBLISH
BEGIN:VEVENT
UID:69ea3afbeadd9
DTSTAMP:20260423T153003Z
DTSTART:20230418
DTEND:20230419
LOCATION:
SUMMARY:The Learning Cooperatives (Princeton\,  NJ)
DESCRIPTION:The Learning Cooperatives (Princeton\,  NJ)\nhttps://chasingchi
 ldhooddoc.com/events/the-learning-cooperatives-princeton-nj-2/
URL:https://chasingchildhooddoc.com/events/the-learning-cooperatives-princeton-nj-2/
END:VEVENT
END:VCALENDAR