BEGIN:VCALENDAR
VERSION:2.0
PRODID:-//eventon.com NONSGML v1.0//EN
CALSCALE:GREGORIAN
METHOD:PUBLISH
BEGIN:VEVENT
UID:69ea3a0a43b5a
DTSTAMP:20260423T152602Z
DTSTART:20230408
DTEND:20230409
LOCATION:
SUMMARY:Elmhurst Parent Group (Elmhurst\,  IL)
DESCRIPTION:Elmhurst Parent Group (Elmhurst\,  IL)\nhttps://chasingchildhoo
 ddoc.com/events/elmhurst-parent-group-elmhurst-il-2/
URL:https://chasingchildhooddoc.com/events/elmhurst-parent-group-elmhurst-il-2/
END:VEVENT
END:VCALENDAR