BEGIN:VCALENDAR
VERSION:2.0
PRODID:-//eventon.com NONSGML v1.0//EN
CALSCALE:GREGORIAN
METHOD:PUBLISH
BEGIN:VEVENT
UID:69ea3a8a09d67
DTSTAMP:20260423T152810Z
DTSTART:20230407
DTEND:20230408
LOCATION:
SUMMARY:ESnet (Lafayette\,  CA)
DESCRIPTION:ESnet (Lafayette\,  CA)\nhttps://chasingchildhooddoc.com/events
 /esnet-lafayette-ca-2/
URL:https://chasingchildhooddoc.com/events/esnet-lafayette-ca-2/
END:VEVENT
END:VCALENDAR