BEGIN:VCALENDAR
VERSION:2.0
PRODID:-//eventon.com NONSGML v1.0//EN
CALSCALE:GREGORIAN
METHOD:PUBLISH
BEGIN:VEVENT
UID:69e638d069b58
DTSTAMP:20260420T143144Z
DTSTART:20230407
DTEND:20230408
LOCATION:
SUMMARY:Hacienda Heights Homeschool Group (HACIENDA HEIGHTS\,  CA)
DESCRIPTION:Hacienda Heights Homeschool Group (HACIENDA HEIGHTS\,  CA)\nhtt
 ps://chasingchildhooddoc.com/events/hacienda-heights-homeschool-group-hacie
 nda-heights-ca/
URL:https://chasingchildhooddoc.com/events/hacienda-heights-homeschool-group-hacienda-heights-ca/
END:VEVENT
END:VCALENDAR