BEGIN:VCALENDAR
VERSION:2.0
PRODID:-//eventon.com NONSGML v1.0//EN
CALSCALE:GREGORIAN
METHOD:PUBLISH
BEGIN:VEVENT
UID:69ea3aa946f1b
DTSTAMP:20260423T152841Z
DTSTART:20220911
DTEND:20220912
LOCATION:
SUMMARY:Home Educator (Chicago\,  Il)
DESCRIPTION:Home Educator (Chicago\,  Il)\nhttps://chasingchildhooddoc.com/
 events/home-educator-chicago-il/
URL:https://chasingchildhooddoc.com/events/home-educator-chicago-il/
END:VEVENT
END:VCALENDAR