BEGIN:VCALENDAR
VERSION:2.0
PRODID:-//eventon.com NONSGML v1.0//EN
CALSCALE:GREGORIAN
METHOD:PUBLISH
BEGIN:VEVENT
UID:69e6a4449e6d7
DTSTAMP:20260420T221012Z
DTSTART:20220916
DTEND:20220917
LOCATION:
SUMMARY:Macon-piatt special education district (Monticello\,  IL)
DESCRIPTION:Macon-piatt special education district (Monticello\,  IL)\nhttp
 s://chasingchildhooddoc.com/events/macon-piatt-special-education-district-m
 onticello-il/
URL:https://chasingchildhooddoc.com/events/macon-piatt-special-education-district-monticello-il/
END:VEVENT
END:VCALENDAR