BEGIN:VCALENDAR
VERSION:2.0
PRODID:-//eventon.com NONSGML v1.0//EN
CALSCALE:GREGORIAN
METHOD:PUBLISH
BEGIN:VEVENT
UID:69ea3a8b20871
DTSTAMP:20260423T152811Z
DTSTART:20220917
DTEND:20220918
LOCATION:
SUMMARY:New York Public Library (New York\,  NY)
DESCRIPTION:New York Public Library (New York\,  NY)\nhttps://chasingchildh
 ooddoc.com/events/new-york-public-library-new-york-ny/
URL:https://chasingchildhooddoc.com/events/new-york-public-library-new-york-ny/
END:VEVENT
END:VCALENDAR