BEGIN:VCALENDAR
VERSION:2.0
PRODID:-//eventon.com NONSGML v1.0//EN
CALSCALE:GREGORIAN
METHOD:PUBLISH
BEGIN:VEVENT
UID:69ea3af0b82b1
DTSTAMP:20260423T152952Z
DTSTART:20220920
DTEND:20220921
LOCATION:
SUMMARY:Assumption Seminary (San Antonio\,  TX)
DESCRIPTION:Assumption Seminary (San Antonio\,  TX)\nhttps://chasingchildho
 oddoc.com/events/assumption-seminary-san-antonio-tx-2/
URL:https://chasingchildhooddoc.com/events/assumption-seminary-san-antonio-tx-2/
END:VEVENT
END:VCALENDAR