BEGIN:VCALENDAR
VERSION:2.0
PRODID:-//eventon.com NONSGML v1.0//EN
CALSCALE:GREGORIAN
METHOD:PUBLISH
BEGIN:VEVENT
UID:69ea3a9c0432a
DTSTAMP:20260423T152828Z
DTSTART:20220923
DTEND:20220924
LOCATION:
SUMMARY:Charlotte Street Counseling Services (Asheville\,  NC)
DESCRIPTION:Charlotte Street Counseling Services (Asheville\,  NC)\nhttps:/
 /chasingchildhooddoc.com/events/charlotte-street-counseling-services-ashevi
 lle-nc-2/
URL:https://chasingchildhooddoc.com/events/charlotte-street-counseling-services-asheville-nc-2/
END:VEVENT
END:VCALENDAR