BEGIN:VCALENDAR
VERSION:2.0
PRODID:-//eventon.com NONSGML v1.0//EN
CALSCALE:GREGORIAN
METHOD:PUBLISH
BEGIN:VEVENT
UID:69ea3a9c2c629
DTSTAMP:20260423T152828Z
DTSTART:20221001
DTEND:20221002
LOCATION:
SUMMARY:Suffield Youth Services (Suffield\,  CT)
DESCRIPTION:Suffield Youth Services (Suffield\,  CT)\nhttps://chasingchildh
 ooddoc.com/events/suffield-youth-services-suffield-ct/
URL:https://chasingchildhooddoc.com/events/suffield-youth-services-suffield-ct/
END:VEVENT
END:VCALENDAR