BEGIN:VCALENDAR
VERSION:2.0
PRODID:-//eventon.com NONSGML v1.0//EN
CALSCALE:GREGORIAN
METHOD:PUBLISH
BEGIN:VEVENT
UID:69ea39dfa26ca
DTSTAMP:20260423T152519Z
DTSTART:20221015
DTEND:20221016
LOCATION:
SUMMARY:Wired2Learn™ Academy (Post Falls\,  ID)
DESCRIPTION:Wired2Learn™ Academy (Post Falls\,  ID)\nhttps://chasingchild
 hooddoc.com/events/wired2learn-academy-post-falls-id-2/
URL:https://chasingchildhooddoc.com/events/wired2learn-academy-post-falls-id-2/
END:VEVENT
END:VCALENDAR